View In:
ArcGIS JavaScript
ArcGIS Online Map Viewer
ArcGIS Earth
Service Description: GIS_DBO_TOS_Imagery_2019
Name: GIS_DBO_TOS_Imagery_2019
Description:
Single Fused Map Cache: false
Extent:
XMin: 2826198.9896907955
YMin: 1641733.3143707158
XMax: 2850543.5257063517
YMax: 1678952.026780215
Spatial Reference: 103013
(6428)
Initial Extent:
XMin: 2826198.9896907955
YMin: 1641733.3143707158
XMax: 2850543.5257063517
YMax: 1678952.026780215
Spatial Reference: 103013
(6428)
Full Extent:
XMin: 2826198.9896907955
YMin: 1641733.3143707158
XMax: 2850543.5257063517
YMax: 1678952.026780215
Spatial Reference: 103013
(6428)
Pixel Size X: 0.4999904706419428
Pixel Size Y: 0.4999961365095695
Band Count: 3
Pixel Type: U16
RasterFunction Infos: {"rasterFunctionInfos": [{
"name": "None",
"description": "",
"help": ""
}]}
Mensuration Capabilities: Basic
Inspection Capabilities:
Has Histograms: true
Has Colormap: false
Has Multi Dimensions : false
Rendering Rule:
Min Scale: 0
Max Scale: 0
Copyright Text:
Service Data Type: esriImageServiceDataTypeGeneric
Min Values: 0, 0, 0
Max Values: 258, 258, 258
Mean Values: 127.98737289956198, 120.89177669081387, 117.06537592361505
Standard Deviation Values: 53.606842620578334, 49.19654712990863, 45.18486898947731
Object ID Field:
Fields:
None
Default Mosaic Method: Center
Allowed Mosaic Methods:
SortField:
SortValue: null
Mosaic Operator: First
Default Compression Quality: 75
Default Resampling Method: Bilinear
Max Record Count: null
Max Image Height: 4100
Max Image Width: 15000
Max Download Image Count: null
Max Mosaic Image Count: null
Allow Raster Function: true
Allow Copy: true
Allow Analysis: true
Allow Compute TiePoints: false
Supports Statistics: false
Supports Advanced Queries: false
Use StandardizedQueries: true
Raster Type Infos:
Name: Raster Dataset
Description: Supports all ArcGIS Raster Datasets
Help:
Has Raster Attribute Table: false
Edit Fields Info: null
Ownership Based AccessControl For Rasters: null
Child Resources:
Info
Histograms
Statistics
Key Properties
Legend
Raster Function Infos
Supported Operations:
Export Image
Identify
Measure
Compute Histograms
Compute Statistics Histograms
Get Samples
Compute Class Statistics
Query Boundary
Compute Pixel Location
Compute Angles
Validate
Project