{
 "currentVersion": 11.3,
 "serviceDescription": "GIS_DBO_TOS_Imagery_2019",
 "name": "GIS_DBO_TOS_Imagery_2019",
 "description": "",
 "extent": {
  "xmin": 2826198.9896907955,
  "ymin": 1641733.3143707158,
  "xmax": 2850543.5257063517,
  "ymax": 1678952.026780215,
  "spatialReference": {
   "wkid": 103013,
   "latestWkid": 6428
  }
 },
 "initialExtent": {
  "xmin": 2826198.9896907955,
  "ymin": 1641733.3143707158,
  "xmax": 2850543.5257063517,
  "ymax": 1678952.026780215,
  "spatialReference": {
   "wkid": 103013,
   "latestWkid": 6428
  }
 },
 "fullExtent": {
  "xmin": 2826198.9896907955,
  "ymin": 1641733.3143707158,
  "xmax": 2850543.5257063517,
  "ymax": 1678952.026780215,
  "spatialReference": {
   "wkid": 103013,
   "latestWkid": 6428
  }
 },
 "sortableFields": "",
 "bandCount": 3,
 "pixelType": "U16",
 "minValues": [
  0,
  0,
  0
 ],
 "maxValues": [
  258,
  258,
  258
 ],
 "meanValues": [
  127.98737289956198,
  120.89177669081387,
  117.06537592361505
 ],
 "stdvValues": [
  53.606842620578334,
  49.19654712990863,
  45.18486898947731
 ],
 "hasMultidimensions": false,
 "pixelSizeX": 0.4999904706419428,
 "pixelSizeY": 0.4999961365095695,
 "meanPixelSize": 0.15239826372641793,
 "datasetFormat": "SDR",
 "uncompressedSize": 21746317320,
 "blockWidth": 128,
 "blockHeight": 128,
 "compressionType": "NONE",
 "bandNames": [
  "Band_1",
  "Band_2",
  "Band_3"
 ],
 "allowCopy": true,
 "allowAnalysis": true,
 "itemAccess": false,
 "inspectionCapabilities": "",
 "minPixelSize": 0,
 "maxPixelSize": 0,
 "copyrightText": "",
 "serviceDataType": "esriImageServiceDataTypeGeneric",
 "serviceSourceType": "esriImageServiceSourceTypeDataset",
 "objectIdField": "",
 "fields": [],
 "capabilities": "Image,Metadata,Mensuration",
 "defaultMosaicMethod": "Center",
 "allowedMosaicMethods": "",
 "sortField": "",
 "sortValue": null,
 "sortAscending": true,
 "mosaicOperator": "First",
 "defaultCompressionQuality": 75,
 "defaultResamplingMethod": "Bilinear",
 "maxImageHeight": 4100,
 "maxImageWidth": 15000,
 "allowRasterFunction": true,
 "rasterFunctionInfos": [
  {
   "name": "None",
   "description": "",
   "help": ""
  }
 ],
 "rasterTypeInfos": [
  {
   "name": "Raster Dataset",
   "description": "Supports all ArcGIS Raster Datasets",
   "help": ""
  }
 ],
 "mensurationCapabilities": "Basic",
 "hasHistograms": true,
 "hasColormap": false,
 "hasRasterAttributeTable": false,
 "minScale": 0,
 "maxScale": 0,
 "exportTilesAllowed": false,
 "supportsStatistics": false,
 "supportsAdvancedQueries": false,
 "editFieldsInfo": null,
 "ownershipBasedAccessControlForRasters": null,
 "allowComputeTiePoints": false,
 "useStandardizedQueries": true,
 "advancedQueryCapabilities": {
  "useStandardizedQueries": true,
  "supportsStatistics": false,
  "supportsOrderBy": false,
  "supportsDistinct": false,
  "supportsPagination": false
 },
 "spatialReference": {
  "wkid": 103013,
  "latestWkid": 6428
 }
}
